BEGIN:VCALENDAR
VERSION:2.0
PRODID:-//RIPTA - ECPv5.7.1//NONSGML v1.0//EN
CALSCALE:GREGORIAN
METHOD:PUBLISH
X-WR-CALNAME:RIPTA
X-ORIGINAL-URL:https://www.ripta.com
X-WR-CALDESC:Events for RIPTA
BEGIN:VTIMEZONE
TZID:America/New_York
BEGIN:DAYLIGHT
TZOFFSETFROM:-0500
TZOFFSETTO:-0400
TZNAME:EDT
DTSTART:20210314T070000
END:DAYLIGHT
BEGIN:STANDARD
TZOFFSETFROM:-0400
TZOFFSETTO:-0500
TZNAME:EST
DTSTART:20211107T060000
END:STANDARD
END:VTIMEZONE
BEGIN:VEVENT
DTSTART;TZID=America/New_York:20210317T133000
DTEND;TZID=America/New_York:20210317T153000
DTSTAMP:20210627T120849
CREATED:20210115T163906Z
LAST-MODIFIED:20210210T190939Z
UID:9915-1615987800-1615995000@www.ripta.com
SUMMARY:Authority Board Meeting
DESCRIPTION:Please call (401) 784-9500 ext. 1171 with any questions.  Thank you. \n*Note: Due to COVID-19\, meetings have been moved to video conferencing\, using Cisco WebEx. \nTo receive information on upcoming Authority Board meetings\, agendas\, and to read meeting minutes\, please go to the Secretary of State Website http://sos.ri.gov or to www.ripta.com. \n		\n\n			\n			\n\n				\n			\n			\n\n			\n		\n		\n			0\n			Shares\n		\n\n					\n							\n		\n\n							\n\n					\n						\n						\n					\n						\n							\n\n							\n															\n									0		\n								\n								\n						\n\n											\n					\n									\n							\n\n					\n						\n						\n					\n						\n							\n\n							\n															\n									0		\n								\n								\n						\n\n											\n					\n									\n							\n\n					\n						\n						\n					\n						\n							\n\n							\n															\n									0		\n								\n								\n						\n\n											\n					\n									\n							\n\n					\n						\n						\n					\n						\n							\n\n							\n															\n									0		\n								\n								\n						\n\n											\n					\n									\n			\n			\n				\n					\n						\n							\n\n														\n																			More
URL:https://www.ripta.com/event/authority-board-meeting-10/
LOCATION:RIPTA’s Transportation Conference Room\, 269 Melrose Street\, Providence\, RI\, 02903\, United States
END:VEVENT
END:VCALENDAR