BEGIN:VCALENDAR
VERSION:2.0
PRODID:-//RIPTA - ECPv5.7.1//NONSGML v1.0//EN
CALSCALE:GREGORIAN
METHOD:PUBLISH
X-WR-CALNAME:RIPTA
X-ORIGINAL-URL:https://www.ripta.com
X-WR-CALDESC:Events for RIPTA
BEGIN:VTIMEZONE
TZID:America/New_York
BEGIN:DAYLIGHT
TZOFFSETFROM:-0500
TZOFFSETTO:-0400
TZNAME:EDT
DTSTART:20210314T070000
END:DAYLIGHT
BEGIN:STANDARD
TZOFFSETFROM:-0400
TZOFFSETTO:-0500
TZNAME:EST
DTSTART:20211107T060000
END:STANDARD
END:VTIMEZONE
BEGIN:VEVENT
DTSTART;TZID=America/New_York:20210429T190000
DTEND;TZID=America/New_York:20210429T200000
DTSTAMP:20210627T120539
CREATED:20210428T181052Z
LAST-MODIFIED:20210428T181052Z
UID:11549-1619722800-1619726400@www.ripta.com
SUMMARY:NOTICE OF PUBLIC HEARING ON PROPOSED BEACH SHUTTLE PILOT PROGRAM
DESCRIPTION:Pursuant to the provisions of Chapter 39-18-4 of Rhode Island General Laws\, the Rhode Island Public Transit Authority (RIPTA) hereby gives notice of its intent to hold a public hearing on a proposed beach shuttle pilot program.  The beach shuttle will run on weekends and holidays\, June 19 through August 27\, 2021 in the Newport and Middletown area. \nA virtual public hearing will be held on Thursday\, April 29 from 7:00pm to 8:00pm to collect public comments.  Please sign-up in advance by emailing marketing@ripta.com or leaving a message at 401-784-9500 x1242\, before 5pm on Wednesday\, April 28. \nThis hearing will be accessible to persons with disabilities and upon request\, persons with limited English proficiency.  RIPTA will provide translation and interpreter services for the deaf and hearing impaired\, provided such a request is made at least 72 hours prior to the hearing date. A request for these services can be made in writing or by calling (401) 784-9500 ex. 1242 or (401) 222-5300 (Deaf or HOH). \n                Title VI DOCUMENT \n                NIP \nVirtual Public Hearing Schedule \nThursday\, April 29\, 2021 \n7:00pm – 8:00pm \nBelow is the login information for this virtual hearing. Please take a moment to read this helpful Guide to Participating in Virtual Public Meetings prior to the meeting.  \nCisco WebEx Video Conference \nInstructions to join: \nVIDEO: \nGo to: https://ripta.webex.com/ripta/onstage/g.php?MTID=e477a548f80b920c74080f69f993bfe1e \nEnter meeting number: 187 021 8060 \nEnter your name\, last name\, email and password: 3fDZT9bEJG3 \nPress “Join Now” \n*Please note: If joining with Google Chrome or Safari\, you will be prompted to add the Cisco WebEx extension to your browser\, prior to following steps 2-4 listed above. \nAUDIO/PHONE CALL: \nDial: 408-418-9388 \nEnter Meeting number: 187 021 8060 # \n		\n\n			\n			\n\n				\n			\n			\n\n			\n		\n		\n			0\n			Shares\n		\n\n					\n							\n		\n\n							\n\n					\n						\n						\n					\n						\n							\n\n							\n															\n									0		\n								\n								\n						\n\n											\n					\n									\n							\n\n					\n						\n						\n					\n						\n							\n\n							\n															\n									0		\n								\n								\n						\n\n											\n					\n									\n							\n\n					\n						\n						\n					\n						\n							\n\n							\n															\n									0		\n								\n								\n						\n\n											\n					\n									\n							\n\n					\n						\n						\n					\n						\n							\n\n							\n															\n									0		\n								\n								\n						\n\n											\n					\n									\n			\n			\n				\n					\n						\n							\n\n														\n																			More
URL:https://www.ripta.com/event/notice-of-public-hearing-on-proposed-beach-shuttle-pilot-program/
END:VEVENT
END:VCALENDAR