BEGIN:VCALENDAR
VERSION:2.0
PRODID:-//RIPTA - ECPv5.7.1//NONSGML v1.0//EN
CALSCALE:GREGORIAN
METHOD:PUBLISH
X-WR-CALNAME:RIPTA
X-ORIGINAL-URL:https://www.ripta.com
X-WR-CALDESC:Events for RIPTA
BEGIN:VTIMEZONE
TZID:America/New_York
BEGIN:DAYLIGHT
TZOFFSETFROM:-0500
TZOFFSETTO:-0400
TZNAME:EDT
DTSTART:20210314T070000
END:DAYLIGHT
BEGIN:STANDARD
TZOFFSETFROM:-0400
TZOFFSETTO:-0500
TZNAME:EST
DTSTART:20211107T060000
END:STANDARD
END:VTIMEZONE
BEGIN:VEVENT
DTSTART;TZID=America/New_York:20210510T140000
DTEND;TZID=America/New_York:20210510T153000
DTSTAMP:20210627T121005
CREATED:20210115T165935Z
LAST-MODIFIED:20210115T165935Z
UID:9933-1620655200-1620660600@www.ripta.com
SUMMARY:Rhode Island Human Services Transportation Coordinating Council Meeting
DESCRIPTION:All meetings are held on the second Monday\, every other month\, from 2:00 to 3:30 PM on Zoom until further notice. To receive information on upcoming Coordinating Council meetings and agendas or to read meeting minutes\, please go to the Secretary of State website: sos.ri.gov or to ripta.com/human-services-transportation-coordination/. \nPlease call (401) 784-9500 ext. 1283 with any questions. Thank you. \n		\n\n			\n			\n\n				\n			\n			\n\n			\n		\n		\n			0\n			Shares\n		\n\n					\n							\n		\n\n							\n\n					\n						\n						\n					\n						\n							\n\n							\n															\n									0		\n								\n								\n						\n\n											\n					\n									\n							\n\n					\n						\n						\n					\n						\n							\n\n							\n															\n									0		\n								\n								\n						\n\n											\n					\n									\n							\n\n					\n						\n						\n					\n						\n							\n\n							\n															\n									0		\n								\n								\n						\n\n											\n					\n									\n							\n\n					\n						\n						\n					\n						\n							\n\n							\n															\n									0		\n								\n								\n						\n\n											\n					\n									\n			\n			\n				\n					\n						\n							\n\n														\n																			More
URL:https://www.ripta.com/event/rhode-island-human-services-transportation-coordinating-council-meeting-2/
END:VEVENT
END:VCALENDAR