BEGIN:VCALENDAR
VERSION:2.0
PRODID:-//RIPTA - ECPv5.7.1//NONSGML v1.0//EN
CALSCALE:GREGORIAN
METHOD:PUBLISH
X-WR-CALNAME:RIPTA
X-ORIGINAL-URL:https://www.ripta.com
X-WR-CALDESC:Events for RIPTA
BEGIN:VTIMEZONE
TZID:America/New_York
BEGIN:DAYLIGHT
TZOFFSETFROM:-0500
TZOFFSETTO:-0400
TZNAME:EDT
DTSTART:20210314T070000
END:DAYLIGHT
BEGIN:STANDARD
TZOFFSETFROM:-0400
TZOFFSETTO:-0500
TZNAME:EST
DTSTART:20211107T060000
END:STANDARD
END:VTIMEZONE
BEGIN:VEVENT
DTSTART;TZID=America/New_York:20210223T140000
DTEND;TZID=America/New_York:20210223T153000
DTSTAMP:20210701T232738
CREATED:20210222T173500Z
LAST-MODIFIED:20210222T191751Z
UID:10570-1614088800-1614094200@www.ripta.com
SUMMARY:Finance Sub-Committee Meeting
DESCRIPTION:*Note: Due to COVID-19\, meetings have been moved to video conferencing\, using Cisco WebEx. \nPlease call (401) 784-9500 ext. 1171 with any questions.  Thank you. \nFor instructions on how to participate\, please click to see the agenda.
URL:https://www.ripta.com/event/joint-pension-board-meeting-schedule-5/
END:VEVENT
END:VCALENDAR