BEGIN:VCALENDAR
VERSION:2.0
PRODID:-//RIPTA - ECPv5.8.0//NONSGML v1.0//EN
CALSCALE:GREGORIAN
METHOD:PUBLISH
X-WR-CALNAME:RIPTA
X-ORIGINAL-URL:https://www.ripta.com
X-WR-CALDESC:Events for RIPTA
BEGIN:VTIMEZONE
TZID:America/New_York
BEGIN:DAYLIGHT
TZOFFSETFROM:-0500
TZOFFSETTO:-0400
TZNAME:EDT
DTSTART:20200308T070000
END:DAYLIGHT
BEGIN:STANDARD
TZOFFSETFROM:-0400
TZOFFSETTO:-0500
TZNAME:EST
DTSTART:20201101T060000
END:STANDARD
BEGIN:DAYLIGHT
TZOFFSETFROM:-0500
TZOFFSETTO:-0400
TZNAME:EDT
DTSTART:20210314T070000
END:DAYLIGHT
BEGIN:STANDARD
TZOFFSETFROM:-0400
TZOFFSETTO:-0500
TZNAME:EST
DTSTART:20211107T060000
END:STANDARD
END:VTIMEZONE
BEGIN:VEVENT
DTSTART;TZID=America/New_York:20210421T133000
DTEND;TZID=America/New_York:20210421T150000
DTSTAMP:20210704T185413
CREATED:20210126T221749Z
LAST-MODIFIED:20210126T221749Z
UID:10180-1619011800-1619017200@www.ripta.com
SUMMARY:Authority Board Meeting
DESCRIPTION:All meetings are held at 1:30 pm at RIPTA’s Transportation Conference Room located at 269 Melrose Street\, Providence\, RI\, unless otherwise noted. \n*Note: Due to COVID-19\, meetings have been moved to video conferencing\, using Cisco WebEx. \nPlease call (401) 784-9500 ext. 1171 with any questions. Thank you.
URL:https://www.ripta.com/event/authority-board-meeting-14/
LOCATION:RIPTA’s Transportation Conference Room\, 269 Melrose Street\, Providence\, RI\, 02903\, United States
END:VEVENT
BEGIN:VEVENT
DTSTART;TZID=America/New_York:20210421T130000
DTEND;TZID=America/New_York:20210421T150000
DTSTAMP:20210704T185413
CREATED:20210127T142615Z
LAST-MODIFIED:20210127T142615Z
UID:10221-1619010000-1619017200@www.ripta.com
SUMMARY:Joint Pension Board Meeting Schedule
DESCRIPTION:All meetings are held at 1:00 pm at RIPTA’s Transportation Conference Room located at 269 Melrose Street\, Providence\, RI\, unless otherwise noted. \n*Note: Due to COVID-19\, meetings have been moved to video conferencing\, using Cisco WebEx. \nPlease call (401) 784-9500 ext. 1171 with any questions.  Thank you.
URL:https://www.ripta.com/event/joint-pension-board-meeting-schedule-4/
LOCATION:RIPTA’s Transportation Conference Room\, 269 Melrose Street\, Providence\, RI\, 02903\, United States
END:VEVENT
BEGIN:VEVENT
DTSTART;TZID=America/New_York:20210317T133000
DTEND;TZID=America/New_York:20210317T153000
DTSTAMP:20210704T185413
CREATED:20210115T163906Z
LAST-MODIFIED:20210210T190939Z
UID:9915-1615987800-1615995000@www.ripta.com
SUMMARY:Authority Board Meeting
DESCRIPTION:Please call (401) 784-9500 ext. 1171 with any questions.  Thank you. \n*Note: Due to COVID-19\, meetings have been moved to video conferencing\, using Cisco WebEx. \nTo receive information on upcoming Authority Board meetings\, agendas\, and to read meeting minutes\, please go to the Secretary of State Website http://sos.ri.gov or to www.ripta.com.
URL:https://www.ripta.com/event/authority-board-meeting-10/
LOCATION:RIPTA’s Transportation Conference Room\, 269 Melrose Street\, Providence\, RI\, 02903\, United States
END:VEVENT
BEGIN:VEVENT
DTSTART;TZID=America/New_York:20210317T130000
DTEND;TZID=America/New_York:20210317T150000
DTSTAMP:20210704T185413
CREATED:20210127T142437Z
LAST-MODIFIED:20210127T142437Z
UID:10219-1615986000-1615993200@www.ripta.com
SUMMARY:Joint Pension Board Meeting Schedule
DESCRIPTION:All meetings are held at 1:00 pm at RIPTA’s Transportation Conference Room located at 269 Melrose Street\, Providence\, RI\, unless otherwise noted. \n*Note: Due to COVID-19\, meetings have been moved to video conferencing\, using Cisco WebEx. \nPlease call (401) 784-9500 ext. 1171 with any questions.  Thank you.
URL:https://www.ripta.com/event/joint-pension-board-meeting-schedule-3/
LOCATION:RIPTA’s Transportation Conference Room\, 269 Melrose Street\, Providence\, RI\, 02903\, United States
END:VEVENT
BEGIN:VEVENT
DTSTART;TZID=America/New_York:20210308T140000
DTEND;TZID=America/New_York:20210308T153000
DTSTAMP:20210704T185413
CREATED:20210115T165651Z
LAST-MODIFIED:20210115T165651Z
UID:9931-1615212000-1615217400@www.ripta.com
SUMMARY:Rhode Island Human Services Transportation Coordinating Council Meeting
DESCRIPTION:All meetings are held on the second Monday\, every other month\, from 2:00 to 3:30 PM on Zoom until further notice. To receive information on upcoming Coordinating Council meetings and agendas or to read meeting minutes\, please go to the Secretary of State website: sos.ri.gov or to ripta.com/human-services-transportation-coordination/. \nPlease call (401) 784-9500 ext. 1283 with any questions. Thank you.
URL:https://www.ripta.com/event/rhode-island-human-services-transportation-coordinating-council-meeting/
END:VEVENT
BEGIN:VEVENT
DTSTART;TZID=America/New_York:20210223T140000
DTEND;TZID=America/New_York:20210223T153000
DTSTAMP:20210704T185413
CREATED:20210222T173500Z
LAST-MODIFIED:20210222T191751Z
UID:10570-1614088800-1614094200@www.ripta.com
SUMMARY:Finance Sub-Committee Meeting
DESCRIPTION:*Note: Due to COVID-19\, meetings have been moved to video conferencing\, using Cisco WebEx. \nPlease call (401) 784-9500 ext. 1171 with any questions.  Thank you. \nFor instructions on how to participate\, please click to see the agenda.
URL:https://www.ripta.com/event/joint-pension-board-meeting-schedule-5/
END:VEVENT
BEGIN:VEVENT
DTSTART;TZID=America/New_York:20210217T130000
DTEND;TZID=America/New_York:20210217T150000
DTSTAMP:20210704T185413
CREATED:20210115T164648Z
LAST-MODIFIED:20210210T191025Z
UID:9923-1613566800-1613574000@www.ripta.com
SUMMARY:Joint Pension Board Meeting
DESCRIPTION:Please call (401) 784-9500 ext. 1171 with any questions.  Thank you. \n*Note: Due to COVID-19\, meetings have been moved to video conferencing\, using Cisco WebEx. \nTo receive information on upcoming Authority Board meetings\, agendas\, and to read meeting minutes\, please go to the Secretary of State Website http://sos.ri.gov or to www.ripta.com.
URL:https://www.ripta.com/event/joint-pension-board-meeting-8/
LOCATION:RIPTA’s Transportation Conference Room\, 269 Melrose Street\, Providence\, RI\, 02903\, United States
END:VEVENT
BEGIN:VEVENT
DTSTART;TZID=America/New_York:20210120T133000
DTEND;TZID=America/New_York:20210120T153000
DTSTAMP:20210704T185413
CREATED:20210115T163348Z
LAST-MODIFIED:20210115T163348Z
UID:9909-1611149400-1611156600@www.ripta.com
SUMMARY:Authority Board Meeting
DESCRIPTION:Please call (401) 784-9500 ext. 1171 with any questions.  Thank you. \nTo receive information on upcoming Authority Board meetings\, agendas\, and to read meeting minutes\, please go to the Secretary of State Website http://sos.ri.gov or to www.ripta.com.
URL:https://www.ripta.com/event/authority-board-meeting-4/
LOCATION:RIPTA’s Transportation Conference Room\, 269 Melrose Street\, Providence\, RI\, 02903\, United States
END:VEVENT
BEGIN:VEVENT
DTSTART;TZID=America/New_York:20210120T130000
DTEND;TZID=America/New_York:20210120T150000
DTSTAMP:20210704T185413
CREATED:20210127T142213Z
LAST-MODIFIED:20210127T142213Z
UID:10215-1611147600-1611154800@www.ripta.com
SUMMARY:Joint Pension Board Meeting Schedule
DESCRIPTION:All meetings are held at 1:00 pm at RIPTA’s Transportation Conference Room located at 269 Melrose Street\, Providence\, RI\, unless otherwise noted. \n*Note: Due to COVID-19\, meetings have been moved to video conferencing\, using Cisco WebEx. \nPlease call (401) 784-9500 ext. 1171 with any questions.  Thank you.
URL:https://www.ripta.com/event/joint-pension-board-meeting-schedule/
LOCATION:RIPTA’s Transportation Conference Room\, 269 Melrose Street\, Providence\, RI\, 02903\, United States
END:VEVENT
BEGIN:VEVENT
DTSTART;TZID=America/New_York:20210120T130000
DTEND;TZID=America/New_York:20210120T150000
DTSTAMP:20210704T185413
CREATED:20210115T164504Z
LAST-MODIFIED:20210115T164504Z
UID:9921-1611147600-1611154800@www.ripta.com
SUMMARY:Joint Pension Board Meeting
DESCRIPTION:Please call (401) 784-9500 ext. 1171 with any questions.  Thank you. \nTo receive information on upcoming Authority Board meetings\, agendas\, and to read meeting minutes\, please go to the Secretary of State Website http://sos.ri.gov or to www.ripta.com.
URL:https://www.ripta.com/event/joint-pension-board-meeting/
LOCATION:RIPTA’s Transportation Conference Room\, 269 Melrose Street\, Providence\, RI\, 02903\, United States
END:VEVENT
BEGIN:VEVENT
DTSTART;VALUE=DATE:20210118
DTEND;VALUE=DATE:20210119
DTSTAMP:20210704T185413
CREATED:20210115T171410Z
LAST-MODIFIED:20210115T171410Z
UID:9941-1610928000-1611014399@www.ripta.com
SUMMARY:Martin Luther King Jr. Day
DESCRIPTION:Martin Luther King Jr. Day is a legal holiday in the State of Rhode Island for 2021 that will be observed by the Authority. On holidays\, Sunday schedules for each route will be observed\, when available.
URL:https://www.ripta.com/event/martin-luther-king-jr-day/
END:VEVENT
BEGIN:VEVENT
DTSTART;VALUE=DATE:20201225
DTEND;VALUE=DATE:20201226
DTSTAMP:20210704T185413
CREATED:20200609T181423Z
LAST-MODIFIED:20200623T165150Z
UID:5434-1608854400-1608940799@www.ripta.com
SUMMARY:Christmas Day
DESCRIPTION:
URL:https://www.ripta.com/event/christmas-day/
END:VEVENT
BEGIN:VEVENT
DTSTART;TZID=America/New_York:20201217T183000
DTEND;TZID=America/New_York:20201217T193000
DTSTAMP:20210704T185413
CREATED:20201214T133558Z
LAST-MODIFIED:20201214T133558Z
UID:9351-1608229800-1608233400@www.ripta.com
SUMMARY:Qx Public Hearing
DESCRIPTION:A virtual public hearing will be held on Thursday\, December 17\, 2020 at 6:30pm to collect public comments.  Please sign-up in advance by emailing marketing@ripta.com or leaving a message at 401-784-9500 x1242\, before 5pm on Wednesday\, December 16.
URL:https://www.ripta.com/event/qx-public-hearing/
END:VEVENT
BEGIN:VEVENT
DTSTART;TZID=America/New_York:20201216T133000
DTEND;TZID=America/New_York:20201216T153000
DTSTAMP:20210704T185413
CREATED:20200610T171542Z
LAST-MODIFIED:20200623T165221Z
UID:5485-1608125400-1608132600@www.ripta.com
SUMMARY:Authority Board Meeting
DESCRIPTION:Please call (401) 784-9500 ext. 1171 with any questions.  Thank you. \nTo receive information on upcoming Authority Board meetings\, agendas\, and to read meeting minutes\, please go to the Secretary of State Website http://sos.ri.gov or to www.ripta.com.
URL:https://www.ripta.com/event/authority-board-meeting-8/
LOCATION:RIPTA’s Transportation Conference Room\, 269 Melrose Street\, Providence\, RI\, 02903\, United States
END:VEVENT
BEGIN:VEVENT
DTSTART;TZID=America/New_York:20201216T130000
DTEND;TZID=America/New_York:20201216T150000
DTSTAMP:20210704T185413
CREATED:20200610T174058Z
LAST-MODIFIED:20200623T165040Z
UID:5501-1608123600-1608130800@www.ripta.com
SUMMARY:Joint Pension Board Meeting
DESCRIPTION:Please call (401) 784-9500 ext. 1171 with any questions.  Thank you. \nTo receive information on upcoming Authority Board meetings\, agendas\, and to read meeting minutes\, please go to the Secretary of State Website http://sos.ri.gov or to www.ripta.com.
URL:https://www.ripta.com/event/joint-pension-board-meeting-7/
LOCATION:RIPTA’s Transportation Conference Room\, 269 Melrose Street\, Providence\, RI\, 02903\, United States
END:VEVENT
BEGIN:VEVENT
DTSTART;TZID=America/New_York:20201203T040000
DTEND;TZID=America/New_York:20201203T180000
DTSTAMP:20210704T185413
CREATED:20200610T181935Z
LAST-MODIFIED:20210126T221332Z
UID:5515-1606968000-1607018400@www.ripta.com
SUMMARY:Accessible Transportation Advisory Committee meeting
DESCRIPTION:
URL:https://www.ripta.com/event/atac-meetings-6/
LOCATION:RIPTA’s Conference Room\, 705 Elmwood Avenue\, providence\, RI\, 02907\, United States
END:VEVENT
BEGIN:VEVENT
DTSTART;VALUE=DATE:20201126
DTEND;VALUE=DATE:20201127
DTSTAMP:20210704T185413
CREATED:20200609T181353Z
LAST-MODIFIED:20200623T165251Z
UID:5432-1606348800-1606435199@www.ripta.com
SUMMARY:Thanksgiving Day
DESCRIPTION:
URL:https://www.ripta.com/event/thanksgiving-day/
END:VEVENT
BEGIN:VEVENT
DTSTART;TZID=America/New_York:20201118T133000
DTEND;TZID=America/New_York:20201118T153000
DTSTAMP:20210704T185413
CREATED:20200610T171344Z
LAST-MODIFIED:20200623T165305Z
UID:5483-1605706200-1605713400@www.ripta.com
SUMMARY:Authority Board Meeting
DESCRIPTION:Please call (401) 784-9500 ext. 1171 with any questions.  Thank you. \nTo receive information on upcoming Authority Board meetings\, agendas\, and to read meeting minutes\, please go to the Secretary of State Website http://sos.ri.gov or to www.ripta.com.
URL:https://www.ripta.com/event/authority-board-meeting-7/
LOCATION:RIPTA’s Transportation Conference Room\, 269 Melrose Street\, Providence\, RI\, 02903\, United States
END:VEVENT
BEGIN:VEVENT
DTSTART;TZID=America/New_York:20201118T130000
DTEND;TZID=America/New_York:20201118T140000
DTSTAMP:20210704T185413
CREATED:20200610T173923Z
LAST-MODIFIED:20200623T165345Z
UID:5499-1605704400-1605708000@www.ripta.com
SUMMARY:Joint Pension Board Meeting
DESCRIPTION:Please call (401) 784-9500 ext. 1171 with any questions.  Thank you. \nTo receive information on upcoming Authority Board meetings\, agendas\, and to read meeting minutes\, please go to the Secretary of State Website http://sos.ri.gov or to www.ripta.com.
URL:https://www.ripta.com/event/joint-pension-board-meeting-6/
LOCATION:RIPTA’s Transportation Conference Room\, 269 Melrose Street\, Providence\, RI\, 02903\, United States
END:VEVENT
BEGIN:VEVENT
DTSTART;VALUE=DATE:20201111
DTEND;VALUE=DATE:20201112
DTSTAMP:20210704T185413
CREATED:20200609T181326Z
LAST-MODIFIED:20200623T165358Z
UID:5430-1605052800-1605139199@www.ripta.com
SUMMARY:Veterans Day
DESCRIPTION:
URL:https://www.ripta.com/event/veterans-day/
END:VEVENT
BEGIN:VEVENT
DTSTART;TZID=America/New_York:20201105T160000
DTEND;TZID=America/New_York:20201105T180000
DTSTAMP:20210704T185413
CREATED:20200610T181741Z
LAST-MODIFIED:20200724T191611Z
UID:5513-1604592000-1604599200@www.ripta.com
SUMMARY:Accessible Transportation Advisory Committee meeting
DESCRIPTION:
URL:https://www.ripta.com/event/atac-meetings-5/
LOCATION:RIPTA’s Conference Room\, 705 Elmwood Avenue\, providence\, RI\, 02907\, United States
END:VEVENT
BEGIN:VEVENT
DTSTART;TZID=America/New_York:20201021T133000
DTEND;TZID=America/New_York:20201021T153000
DTSTAMP:20210704T185413
CREATED:20200610T171155Z
LAST-MODIFIED:20200623T165501Z
UID:5481-1603287000-1603294200@www.ripta.com
SUMMARY:Authority Board Meeting
DESCRIPTION:Please call (401) 784-9500 ext. 1171 with any questions.  Thank you. \nTo receive information on upcoming Authority Board meetings\, agendas\, and to read meeting minutes\, please go to the Secretary of State Website http://sos.ri.gov or to www.ripta.com.
URL:https://www.ripta.com/event/authority-board-meeting-6/
LOCATION:RIPTA’s Transportation Conference Room\, 269 Melrose Street\, Providence\, RI\, 02903\, United States
END:VEVENT
BEGIN:VEVENT
DTSTART;TZID=America/New_York:20201021T130000
DTEND;TZID=America/New_York:20201021T150000
DTSTAMP:20210704T185413
CREATED:20200610T173747Z
LAST-MODIFIED:20200623T165513Z
UID:5497-1603285200-1603292400@www.ripta.com
SUMMARY:Joint Pension Board Meeting
DESCRIPTION:Please call (401) 784-9500 ext. 1171 with any questions.  Thank you. \nTo receive information on upcoming Authority Board meetings\, agendas\, and to read meeting minutes\, please go to the Secretary of State Website http://sos.ri.gov or to www.ripta.com.
URL:https://www.ripta.com/event/joint-pension-board-meeting-5/
LOCATION:RIPTA’s Transportation Conference Room\, 269 Melrose Street\, Providence\, RI\, 02903\, United States
END:VEVENT
BEGIN:VEVENT
DTSTART;VALUE=DATE:20201012
DTEND;VALUE=DATE:20201013
DTSTAMP:20210704T185413
CREATED:20200609T181245Z
LAST-MODIFIED:20200623T165524Z
UID:5427-1602460800-1602547199@www.ripta.com
SUMMARY:Columbus Day
DESCRIPTION:
URL:https://www.ripta.com/event/columbus-day/
END:VEVENT
BEGIN:VEVENT
DTSTART;TZID=America/New_York:20201001T160000
DTEND;TZID=America/New_York:20201001T180000
DTSTAMP:20210704T185413
CREATED:20200610T181641Z
LAST-MODIFIED:20200724T191541Z
UID:5511-1601568000-1601575200@www.ripta.com
SUMMARY:Accessible Transportation Advisory Committee meeting
DESCRIPTION:
URL:https://www.ripta.com/event/atac-meetings-4/
LOCATION:RIPTA’s Conference Room\, 705 Elmwood Avenue\, providence\, RI\, 02907\, United States
END:VEVENT
BEGIN:VEVENT
DTSTART;TZID=America/New_York:20200930T013000
DTEND;TZID=America/New_York:20200930T153000
DTSTAMP:20210704T185413
CREATED:20200610T171045Z
LAST-MODIFIED:20200623T165622Z
UID:5479-1601429400-1601479800@www.ripta.com
SUMMARY:Authority Board Meeting
DESCRIPTION:Please call (401) 784-9500 ext. 1171 with any questions.  Thank you. \nTo receive information on upcoming Authority Board meetings\, agendas\, and to read meeting minutes\, please go to the Secretary of State Website http://sos.ri.gov or to www.ripta.com.
URL:https://www.ripta.com/event/authority-board-meeting-5/
LOCATION:RIPTA’s Transportation Conference Room\, 269 Melrose Street\, Providence\, RI\, 02903\, United States
END:VEVENT
BEGIN:VEVENT
DTSTART;TZID=America/New_York:20200923T130000
DTEND;TZID=America/New_York:20200923T150000
DTSTAMP:20210704T185413
CREATED:20200610T173359Z
LAST-MODIFIED:20200921T121501Z
UID:5495-1600866000-1600873200@www.ripta.com
SUMMARY:Joint Pension Board Meeting
DESCRIPTION:Please call (401) 784-9500 ext. 1171 with any questions.  Thank you. \nTo receive information on upcoming Authority Board meetings\, agendas\, and to read meeting minutes\, please go to the Secretary of State Website http://sos.ri.gov or to www.ripta.com.
URL:https://www.ripta.com/event/joint-pension-board-meeting-4/
LOCATION:RIPTA’s Transportation Conference Room\, 269 Melrose Street\, Providence\, RI\, 02903\, United States
END:VEVENT
BEGIN:VEVENT
DTSTART;VALUE=DATE:20200907
DTEND;VALUE=DATE:20200908
DTSTAMP:20210704T185413
CREATED:20200609T181220Z
LAST-MODIFIED:20200623T165702Z
UID:5424-1599436800-1599523199@www.ripta.com
SUMMARY:Labor Day
DESCRIPTION:
URL:https://www.ripta.com/event/labor-day/
END:VEVENT
BEGIN:VEVENT
DTSTART;TZID=America/New_York:20200903T160000
DTEND;TZID=America/New_York:20200903T180000
DTSTAMP:20210704T185413
CREATED:20200610T181356Z
LAST-MODIFIED:20200724T191445Z
UID:5507-1599148800-1599156000@www.ripta.com
SUMMARY:Accessible Transportation Advisory Committee meeting
DESCRIPTION:
URL:https://www.ripta.com/event/atac-meetings-2/
LOCATION:RIPTA’s Conference Room\, 705 Elmwood Avenue\, providence\, RI\, 02907\, United States
END:VEVENT
BEGIN:VEVENT
DTSTART;TZID=America/New_York:20200819T133000
DTEND;TZID=America/New_York:20200819T153000
DTSTAMP:20210704T185413
CREATED:20200610T170824Z
LAST-MODIFIED:20200623T165724Z
UID:5475-1597843800-1597851000@www.ripta.com
SUMMARY:Authority Board Meeting
DESCRIPTION:  \nPlease call (401) 784-9500 ext. 1171 with any questions.  Thank you. \nTo receive information on upcoming Authority Board meetings\, agendas\, and to read meeting minutes\, please go to the Secretary of State Website http://sos.ri.gov or to www.ripta.com.
URL:https://www.ripta.com/event/authority-board-meeting-3/
LOCATION:RIPTA’s Transportation Conference Room\, 269 Melrose Street\, Providence\, RI\, 02903\, United States
END:VEVENT
END:VCALENDAR