BEGIN:VCALENDAR
VERSION:2.0
PRODID:-//RIPTA - ECPv5.8.0//NONSGML v1.0//EN
CALSCALE:GREGORIAN
METHOD:PUBLISH
X-WR-CALNAME:RIPTA
X-ORIGINAL-URL:https://www.ripta.com
X-WR-CALDESC:Events for RIPTA
BEGIN:VTIMEZONE
TZID:America/New_York
BEGIN:DAYLIGHT
TZOFFSETFROM:-0500
TZOFFSETTO:-0400
TZNAME:EDT
DTSTART:20210314T070000
END:DAYLIGHT
BEGIN:STANDARD
TZOFFSETFROM:-0400
TZOFFSETTO:-0500
TZNAME:EST
DTSTART:20211107T060000
END:STANDARD
END:VTIMEZONE
BEGIN:VEVENT
DTSTART;TZID=America/New_York:20210616T133000
DTEND;TZID=America/New_York:20210616T150000
DTSTAMP:20210704T185334
CREATED:20210126T222047Z
LAST-MODIFIED:20210615T164355Z
UID:10184-1623850200-1623855600@www.ripta.com
SUMMARY:Authority Board Meeting - Cancelled
DESCRIPTION:
URL:https://www.ripta.com/event/authority-board-meeting-16/
LOCATION:RIPTA’s Transportation Conference Room\, 269 Melrose Street\, Providence\, RI\, 02903\, United States
END:VEVENT
BEGIN:VEVENT
DTSTART;TZID=America/New_York:20210618T140000
DTEND;TZID=America/New_York:20210618T153000
DTSTAMP:20210704T185334
CREATED:20210616T174250Z
LAST-MODIFIED:20210616T180234Z
UID:12323-1624024800-1624030200@www.ripta.com
SUMMARY:Authority Board Meeting
DESCRIPTION:All meetings are held at RIPTA’s Transportation Conference Room located at 269 Melrose Street\, Providence\, RI\, unless otherwise noted. \n*Note: Due to COVID-19\, meetings have been moved to video conferencing\, using Cisco WebEx. \nPlease call (401) 784-9500 ext. 1171 with any questions. Thank you.
URL:https://www.ripta.com/event/authority-board-meeting-9/
LOCATION:Cisco WebEx Video Conference
END:VEVENT
BEGIN:VEVENT
DTSTART;VALUE=DATE:20210704
DTEND;VALUE=DATE:20210705
DTSTAMP:20210704T185334
CREATED:20210115T171829Z
LAST-MODIFIED:20210115T171829Z
UID:9945-1625356800-1625443199@www.ripta.com
SUMMARY:Independence Day
DESCRIPTION:Independence Day is a legal holiday in the State of Rhode Island for 2021 that will be observed by the Authority. On holidays\, Sunday schedules for each route will be observed\, when available.
URL:https://www.ripta.com/event/independence-day-2/
END:VEVENT
BEGIN:VEVENT
DTSTART;TZID=America/New_York:20210712T140000
DTEND;TZID=America/New_York:20210712T153000
DTSTAMP:20210704T185334
CREATED:20210115T170202Z
LAST-MODIFIED:20210115T170202Z
UID:9935-1626098400-1626103800@www.ripta.com
SUMMARY:Rhode Island Human Services Transportation Coordinating Council Meeting
DESCRIPTION:All meetings are held on the second Monday\, every other month\, from 2:00 to 3:30 PM on Zoom until further notice. To receive information on upcoming Coordinating Council meetings and agendas or to read meeting minutes\, please go to the Secretary of State website: sos.ri.gov or to ripta.com/human-services-transportation-coordination/. \nPlease call (401) 784-9500 ext. 1283 with any questions. Thank you.
URL:https://www.ripta.com/event/rhode-island-human-services-transportation-coordinating-council-meeting-3/
END:VEVENT
BEGIN:VEVENT
DTSTART;TZID=America/New_York:20210721T130000
DTEND;TZID=America/New_York:20210721T150000
DTSTAMP:20210704T185334
CREATED:20210127T143227Z
LAST-MODIFIED:20210127T143227Z
UID:10227-1626872400-1626879600@www.ripta.com
SUMMARY:Joint Pension Board Meeting Schedule
DESCRIPTION:All meetings are held at 1:00 pm at RIPTA’s Transportation Conference Room located at 269 Melrose Street\, Providence\, RI\, unless otherwise noted. \n*Note: Due to COVID-19\, meetings have been moved to video conferencing\, using Cisco WebEx. \nPlease call (401) 784-9500 ext. 1171 with any questions.  Thank you.
URL:https://www.ripta.com/event/joint-pension-board-meeting-schedule-7/
LOCATION:RIPTA’s Transportation Conference Room\, 269 Melrose Street\, Providence\, RI\, 02903\, United States
END:VEVENT
BEGIN:VEVENT
DTSTART;TZID=America/New_York:20210721T133000
DTEND;TZID=America/New_York:20210721T150000
DTSTAMP:20210704T185334
CREATED:20210126T222149Z
LAST-MODIFIED:20210126T222224Z
UID:10186-1626874200-1626879600@www.ripta.com
SUMMARY:Authority Board Meeting
DESCRIPTION:All meetings are held at 1:30 pm at RIPTA’s Transportation Conference Room located at 269 Melrose Street\, Providence\, RI\, unless otherwise noted. \n*Note: Due to COVID-19\, meetings have been moved to video conferencing\, using Cisco WebEx. \nPlease call (401) 784-9500 ext. 1171 with any questions. Thank you.
URL:https://www.ripta.com/event/authority-board-meeting-17/
LOCATION:RIPTA’s Transportation Conference Room\, 269 Melrose Street\, Providence\, RI\, 02903\, United States
END:VEVENT
BEGIN:VEVENT
DTSTART;TZID=America/New_York:20210805T160000
DTEND;TZID=America/New_York:20210805T173000
DTSTAMP:20210704T185334
CREATED:20210601T161527Z
LAST-MODIFIED:20210601T172228Z
UID:12050-1628179200-1628184600@www.ripta.com
SUMMARY:Accessible Transportation Advisory Committee
DESCRIPTION:Join Zoom Meeting \nhttps://us02web.zoom.us/j/82192268160?pwd=Sko3Tml6N0Z0R1FKK1kzYWR4Y2lLdz09 \nMeeting ID: 821 9226 8160 \nPasscode: 800217 \nDial by your location \n        +1 301 715 8592 US (Washington DC) \n        +1 646 558 8656 US (New York)
URL:https://www.ripta.com/event/atac-committee-2/
END:VEVENT
BEGIN:VEVENT
DTSTART;VALUE=DATE:20210809
DTEND;VALUE=DATE:20210810
DTSTAMP:20210704T185334
CREATED:20210115T172030Z
LAST-MODIFIED:20210115T172030Z
UID:9947-1628467200-1628553599@www.ripta.com
SUMMARY:Victory Day
DESCRIPTION:Victory Day is a legal holiday in the State of Rhode Island for 2021 that will be observed by the Authority. On holidays\, Sunday schedules for each route will be observed\, when available.
URL:https://www.ripta.com/event/victory-day-2/
END:VEVENT
BEGIN:VEVENT
DTSTART;TZID=America/New_York:20210818T130000
DTEND;TZID=America/New_York:20210818T150000
DTSTAMP:20210704T185334
CREATED:20210127T143358Z
LAST-MODIFIED:20210127T143358Z
UID:10229-1629291600-1629298800@www.ripta.com
SUMMARY:Joint Pension Board Meeting Schedule
DESCRIPTION:All meetings are held at 1:00 pm at RIPTA’s Transportation Conference Room located at 269 Melrose Street\, Providence\, RI\, unless otherwise noted. \n*Note: Due to COVID-19\, meetings have been moved to video conferencing\, using Cisco WebEx. \nPlease call (401) 784-9500 ext. 1171 with any questions.  Thank you.
URL:https://www.ripta.com/event/joint-pension-board-meeting-schedule-8/
LOCATION:RIPTA’s Transportation Conference Room\, 269 Melrose Street\, Providence\, RI\, 02903\, United States
END:VEVENT
BEGIN:VEVENT
DTSTART;TZID=America/New_York:20210818T133000
DTEND;TZID=America/New_York:20210818T150000
DTSTAMP:20210704T185334
CREATED:20210126T222336Z
LAST-MODIFIED:20210126T222336Z
UID:10188-1629293400-1629298800@www.ripta.com
SUMMARY:Authority Board Meeting
DESCRIPTION:All meetings are held at 1:30 pm at RIPTA’s Transportation Conference Room located at 269 Melrose Street\, Providence\, RI\, unless otherwise noted. \n*Note: Due to COVID-19\, meetings have been moved to video conferencing\, using Cisco WebEx. \nPlease call (401) 784-9500 ext. 1171 with any questions. Thank you.
URL:https://www.ripta.com/event/authority-board-meeting-18/
LOCATION:RIPTA’s Transportation Conference Room\, 269 Melrose Street\, Providence\, RI\, 02903\, United States
END:VEVENT
BEGIN:VEVENT
DTSTART;TZID=America/New_York:20210902T160000
DTEND;TZID=America/New_York:20210902T173000
DTSTAMP:20210704T185334
CREATED:20210601T161634Z
LAST-MODIFIED:20210601T172359Z
UID:12052-1630598400-1630603800@www.ripta.com
SUMMARY:Accessible Transportation Advisory Committee
DESCRIPTION:Join Zoom Meeting \nhttps://us02web.zoom.us/j/82192268160?pwd=Sko3Tml6N0Z0R1FKK1kzYWR4Y2lLdz09 \nMeeting ID: 821 9226 8160 \nPasscode: 800217 \nDial by your location \n+1 301 715 8592 US (Washington DC) \n+1 646 558 8656 US (New York)
URL:https://www.ripta.com/event/atac-committee-3/
END:VEVENT
BEGIN:VEVENT
DTSTART;VALUE=DATE:20210906
DTEND;VALUE=DATE:20210907
DTSTAMP:20210704T185334
CREATED:20210115T172129Z
LAST-MODIFIED:20210115T172129Z
UID:9949-1630886400-1630972799@www.ripta.com
SUMMARY:Labor Day
DESCRIPTION:Labor Day is a legal holiday in the State of Rhode Island for 2021 that will be observed by the Authority. On holidays\, Sunday schedules for each route will be observed\, when available.
URL:https://www.ripta.com/event/labor-day-2/
END:VEVENT
BEGIN:VEVENT
DTSTART;TZID=America/New_York:20210913T140000
DTEND;TZID=America/New_York:20210913T153000
DTSTAMP:20210704T185334
CREATED:20210115T170415Z
LAST-MODIFIED:20210115T170415Z
UID:9937-1631541600-1631547000@www.ripta.com
SUMMARY:Rhode Island Human Services Transportation Coordinating Council Meeting
DESCRIPTION:All meetings are held on the second Monday\, every other month\, from 2:00 to 3:30 PM on Zoom until further notice. To receive information on upcoming Coordinating Council meetings and agendas or to read meeting minutes\, please go to the Secretary of State website: sos.ri.gov or to ripta.com/human-services-transportation-coordination/. \nPlease call (401) 784-9500 ext. 1283 with any questions. Thank you.
URL:https://www.ripta.com/event/rhode-island-human-services-transportation-coordinating-council-meeting-4/
END:VEVENT
BEGIN:VEVENT
DTSTART;TZID=America/New_York:20210929T130000
DTEND;TZID=America/New_York:20210929T150000
DTSTAMP:20210704T185334
CREATED:20210127T143511Z
LAST-MODIFIED:20210127T143511Z
UID:10231-1632920400-1632927600@www.ripta.com
SUMMARY:Joint Pension Board Meeting Schedule
DESCRIPTION:All meetings are held at 1:00 pm at RIPTA’s Transportation Conference Room located at 269 Melrose Street\, Providence\, RI\, unless otherwise noted. \n*Note: Due to COVID-19\, meetings have been moved to video conferencing\, using Cisco WebEx. \nPlease call (401) 784-9500 ext. 1171 with any questions.  Thank you.
URL:https://www.ripta.com/event/joint-pension-board-meeting-schedule-9/
LOCATION:RIPTA’s Transportation Conference Room\, 269 Melrose Street\, Providence\, RI\, 02903\, United States
END:VEVENT
BEGIN:VEVENT
DTSTART;TZID=America/New_York:20210929T133000
DTEND;TZID=America/New_York:20210929T150000
DTSTAMP:20210704T185334
CREATED:20210126T222519Z
LAST-MODIFIED:20210126T222519Z
UID:10190-1632922200-1632927600@www.ripta.com
SUMMARY:Authority Board Meeting
DESCRIPTION:All meetings are held at 1:30 pm at RIPTA’s Transportation Conference Room located at 269 Melrose Street\, Providence\, RI\, unless otherwise noted. \n*Note: Due to COVID-19\, meetings have been moved to video conferencing\, using Cisco WebEx. \nPlease call (401) 784-9500 ext. 1171 with any questions. Thank you.
URL:https://www.ripta.com/event/authority-board-meeting-19/
LOCATION:RIPTA’s Transportation Conference Room\, 269 Melrose Street\, Providence\, RI\, 02903\, United States
END:VEVENT
BEGIN:VEVENT
DTSTART;TZID=America/New_York:20211007T160000
DTEND;TZID=America/New_York:20211007T173000
DTSTAMP:20210704T185334
CREATED:20210601T161721Z
LAST-MODIFIED:20210601T172542Z
UID:12054-1633622400-1633627800@www.ripta.com
SUMMARY:Accessible Transportation Advisory Committee
DESCRIPTION:Join Zoom Meeting \nhttps://us02web.zoom.us/j/82192268160?pwd=Sko3Tml6N0Z0R1FKK1kzYWR4Y2lLdz09 \nMeeting ID: 821 9226 8160 \nPasscode: 800217 \nDial by your location \n+1 301 715 8592 US (Washington DC) \n+1 646 558 8656 US (New York)
URL:https://www.ripta.com/event/atac-committee-4/
END:VEVENT
BEGIN:VEVENT
DTSTART;VALUE=DATE:20211011
DTEND;VALUE=DATE:20211012
DTSTAMP:20210704T185334
CREATED:20210115T172236Z
LAST-MODIFIED:20210115T172236Z
UID:9951-1633910400-1633996799@www.ripta.com
SUMMARY:Columbus Day
DESCRIPTION:Columbus Day is a legal holiday in the State of Rhode Island for 2021 that will be observed by the Authority. On holidays\, Sunday schedules for each route will be observed\, when available.
URL:https://www.ripta.com/event/columbus-day-2/
END:VEVENT
BEGIN:VEVENT
DTSTART;TZID=America/New_York:20211020T130000
DTEND;TZID=America/New_York:20211020T150000
DTSTAMP:20210704T185334
CREATED:20210126T222640Z
LAST-MODIFIED:20210126T222640Z
UID:10192-1634734800-1634742000@www.ripta.com
SUMMARY:Authority Board Meeting
DESCRIPTION:All meetings are held at 1:30 pm at RIPTA’s Transportation Conference Room located at 269 Melrose Street\, Providence\, RI\, unless otherwise noted. \n*Note: Due to COVID-19\, meetings have been moved to video conferencing\, using Cisco WebEx. \nPlease call (401) 784-9500 ext. 1171 with any questions. Thank you.
URL:https://www.ripta.com/event/authority-board-meeting-20/
LOCATION:RIPTA’s Transportation Conference Room\, 269 Melrose Street\, Providence\, RI\, 02903\, United States
END:VEVENT
BEGIN:VEVENT
DTSTART;TZID=America/New_York:20211020T130000
DTEND;TZID=America/New_York:20211020T150000
DTSTAMP:20210704T185334
CREATED:20210127T143623Z
LAST-MODIFIED:20210127T143623Z
UID:10233-1634734800-1634742000@www.ripta.com
SUMMARY:Joint Pension Board Meeting Schedule
DESCRIPTION:All meetings are held at 1:00 pm at RIPTA’s Transportation Conference Room located at 269 Melrose Street\, Providence\, RI\, unless otherwise noted. \n*Note: Due to COVID-19\, meetings have been moved to video conferencing\, using Cisco WebEx. \nPlease call (401) 784-9500 ext. 1171 with any questions.  Thank you.
URL:https://www.ripta.com/event/joint-pension-board-meeting-schedule-10/
LOCATION:RIPTA’s Transportation Conference Room\, 269 Melrose Street\, Providence\, RI\, 02903\, United States
END:VEVENT
BEGIN:VEVENT
DTSTART;TZID=America/New_York:20211104T160000
DTEND;TZID=America/New_York:20211104T173000
DTSTAMP:20210704T185334
CREATED:20210601T161813Z
LAST-MODIFIED:20210601T172707Z
UID:12056-1636041600-1636047000@www.ripta.com
SUMMARY:Accessible Transportation Advisory Committee
DESCRIPTION:Join Zoom Meeting \nhttps://us02web.zoom.us/j/82192268160?pwd=Sko3Tml6N0Z0R1FKK1kzYWR4Y2lLdz09 \nMeeting ID: 821 9226 8160 \nPasscode: 800217 \nDial by your location \n+1 301 715 8592 US (Washington DC) \n+1 646 558 8656 US (New York)
URL:https://www.ripta.com/event/atac-committee-5/
END:VEVENT
BEGIN:VEVENT
DTSTART;TZID=America/New_York:20211108T140000
DTEND;TZID=America/New_York:20211108T153000
DTSTAMP:20210704T185334
CREATED:20210115T170602Z
LAST-MODIFIED:20210115T170602Z
UID:9939-1636380000-1636385400@www.ripta.com
SUMMARY:Rhode Island Human Services Transportation Coordinating Council Meeting
DESCRIPTION:All meetings are held on the second Monday\, every other month\, from 2:00 to 3:30 PM on Zoom until further notice. To receive information on upcoming Coordinating Council meetings and agendas or to read meeting minutes\, please go to the Secretary of State website: sos.ri.gov or to ripta.com/human-services-transportation-coordination/. \nPlease call (401) 784-9500 ext. 1283 with any questions. Thank you.
URL:https://www.ripta.com/event/rhode-island-human-services-transportation-coordinating-council-meeting-5/
END:VEVENT
BEGIN:VEVENT
DTSTART;VALUE=DATE:20211111
DTEND;VALUE=DATE:20211112
DTSTAMP:20210704T185334
CREATED:20210115T172328Z
LAST-MODIFIED:20210115T172328Z
UID:9953-1636588800-1636675199@www.ripta.com
SUMMARY:Veterans Day
DESCRIPTION:Veterans Day is a legal holiday in the State of Rhode Island for 2021 that will be observed by the Authority. On holidays\, Sunday schedules for each route will be observed\, when available.
URL:https://www.ripta.com/event/veterans-day-2/
END:VEVENT
BEGIN:VEVENT
DTSTART;TZID=America/New_York:20211117T130000
DTEND;TZID=America/New_York:20211117T150000
DTSTAMP:20210704T185334
CREATED:20210126T222804Z
LAST-MODIFIED:20210126T222804Z
UID:10194-1637154000-1637161200@www.ripta.com
SUMMARY:Authority Board Meeting
DESCRIPTION:All meetings are held at 1:30 pm at RIPTA’s Transportation Conference Room located at 269 Melrose Street\, Providence\, RI\, unless otherwise noted. \n*Note: Due to COVID-19\, meetings have been moved to video conferencing\, using Cisco WebEx. \nPlease call (401) 784-9500 ext. 1171 with any questions. Thank you.
URL:https://www.ripta.com/event/authority-board-meeting-21/
LOCATION:RIPTA’s Transportation Conference Room\, 269 Melrose Street\, Providence\, RI\, 02903\, United States
END:VEVENT
BEGIN:VEVENT
DTSTART;TZID=America/New_York:20211117T130000
DTEND;TZID=America/New_York:20211117T150000
DTSTAMP:20210704T185334
CREATED:20210127T143735Z
LAST-MODIFIED:20210127T143735Z
UID:10235-1637154000-1637161200@www.ripta.com
SUMMARY:Joint Pension Board Meeting Schedule
DESCRIPTION:All meetings are held at 1:00 pm at RIPTA’s Transportation Conference Room located at 269 Melrose Street\, Providence\, RI\, unless otherwise noted. \n*Note: Due to COVID-19\, meetings have been moved to video conferencing\, using Cisco WebEx. \nPlease call (401) 784-9500 ext. 1171 with any questions.  Thank you.
URL:https://www.ripta.com/event/joint-pension-board-meeting-schedule-11/
LOCATION:RIPTA’s Transportation Conference Room\, 269 Melrose Street\, Providence\, RI\, 02903\, United States
END:VEVENT
BEGIN:VEVENT
DTSTART;VALUE=DATE:20211125
DTEND;VALUE=DATE:20211126
DTSTAMP:20210704T185334
CREATED:20210115T172426Z
LAST-MODIFIED:20210115T172426Z
UID:9955-1637798400-1637884799@www.ripta.com
SUMMARY:Thanksgiving Day
DESCRIPTION:Thanksgiving Day is a legal holiday in the State of Rhode Island for 2021 that will be observed by the Authority. On holidays\, Sunday schedules for each route will be observed\, when available.
URL:https://www.ripta.com/event/thanksgiving-day-2/
END:VEVENT
BEGIN:VEVENT
DTSTART;TZID=America/New_York:20211202T160000
DTEND;TZID=America/New_York:20211202T173000
DTSTAMP:20210704T185334
CREATED:20210601T161911Z
LAST-MODIFIED:20210601T172847Z
UID:12058-1638460800-1638466200@www.ripta.com
SUMMARY:Accessible Transportation Advisory Committee
DESCRIPTION:Join Zoom Meeting \nhttps://us02web.zoom.us/j/82192268160?pwd=Sko3Tml6N0Z0R1FKK1kzYWR4Y2lLdz09 \nMeeting ID: 821 9226 8160 \nPasscode: 800217 \nDial by your location \n+1 301 715 8592 US (Washington DC) \n+1 646 558 8656 US (New York)
URL:https://www.ripta.com/event/atac-committee-6/
END:VEVENT
BEGIN:VEVENT
DTSTART;TZID=America/New_York:20211215T130000
DTEND;TZID=America/New_York:20211215T150000
DTSTAMP:20210704T185334
CREATED:20210126T222910Z
LAST-MODIFIED:20210126T222910Z
UID:10196-1639573200-1639580400@www.ripta.com
SUMMARY:Authority Board Meeting
DESCRIPTION:All meetings are held at 1:30 pm at RIPTA’s Transportation Conference Room located at 269 Melrose Street\, Providence\, RI\, unless otherwise noted. \n*Note: Due to COVID-19\, meetings have been moved to video conferencing\, using Cisco WebEx. \nPlease call (401) 784-9500 ext. 1171 with any questions. Thank you.
URL:https://www.ripta.com/event/authority-board-meeting-22/
LOCATION:RIPTA’s Transportation Conference Room\, 269 Melrose Street\, Providence\, RI\, 02903\, United States
END:VEVENT
BEGIN:VEVENT
DTSTART;TZID=America/New_York:20211215T130000
DTEND;TZID=America/New_York:20211215T150000
DTSTAMP:20210704T185334
CREATED:20210127T143901Z
LAST-MODIFIED:20210127T143901Z
UID:10237-1639573200-1639580400@www.ripta.com
SUMMARY:Joint Pension Board Meeting Schedule
DESCRIPTION:All meetings are held at 1:00 pm at RIPTA’s Transportation Conference Room located at 269 Melrose Street\, Providence\, RI\, unless otherwise noted. \n*Note: Due to COVID-19\, meetings have been moved to video conferencing\, using Cisco WebEx. \nPlease call (401) 784-9500 ext. 1171 with any questions.  Thank you.
URL:https://www.ripta.com/event/joint-pension-board-meeting-schedule-12/
LOCATION:RIPTA’s Transportation Conference Room\, 269 Melrose Street\, Providence\, RI\, 02903\, United States
END:VEVENT
BEGIN:VEVENT
DTSTART;VALUE=DATE:20211225
DTEND;VALUE=DATE:20211226
DTSTAMP:20210704T185334
CREATED:20210115T172516Z
LAST-MODIFIED:20210115T172516Z
UID:9957-1640390400-1640476799@www.ripta.com
SUMMARY:Christmas Day
DESCRIPTION:Christmas Day is a legal holiday in the State of Rhode Island for 2021 that will be observed by the Authority. On holidays\, Sunday schedules for each route will be observed\, when available.
URL:https://www.ripta.com/event/christmas-day-2/
END:VEVENT
END:VCALENDAR