BEGIN:VCALENDAR
VERSION:2.0
PRODID:-//RIPTA - ECPv5.9.1//NONSGML v1.0//EN
CALSCALE:GREGORIAN
METHOD:PUBLISH
X-WR-CALNAME:RIPTA
X-ORIGINAL-URL:https://www.ripta.com
X-WR-CALDESC:Events for RIPTA
BEGIN:VTIMEZONE
TZID:America/New_York
BEGIN:DAYLIGHT
TZOFFSETFROM:-0500
TZOFFSETTO:-0400
TZNAME:EDT
DTSTART:20210314T070000
END:DAYLIGHT
BEGIN:STANDARD
TZOFFSETFROM:-0400
TZOFFSETTO:-0500
TZNAME:EST
DTSTART:20211107T060000
END:STANDARD
END:VTIMEZONE
BEGIN:VEVENT
DTSTART;TZID=America/New_York:20211007T160000
DTEND;TZID=America/New_York:20211007T173000
DTSTAMP:20210929T011050
CREATED:20210601T161721Z
LAST-MODIFIED:20210601T172542Z
UID:12054-1633622400-1633627800@www.ripta.com
SUMMARY:Accessible Transportation Advisory Committee
DESCRIPTION:Join Zoom Meeting \nhttps://us02web.zoom.us/j/82192268160?pwd=Sko3Tml6N0Z0R1FKK1kzYWR4Y2lLdz09 \nMeeting ID: 821 9226 8160 \nPasscode: 800217 \nDial by your location \n+1 301 715 8592 US (Washington DC) \n+1 646 558 8656 US (New York)
URL:https://www.ripta.com/event/atac-committee-4/
END:VEVENT
BEGIN:VEVENT
DTSTART;VALUE=DATE:20211011
DTEND;VALUE=DATE:20211012
DTSTAMP:20210929T011050
CREATED:20210115T172236Z
LAST-MODIFIED:20210115T172236Z
UID:9951-1633910400-1633996799@www.ripta.com
SUMMARY:Columbus Day
DESCRIPTION:Columbus Day is a legal holiday in the State of Rhode Island for 2021 that will be observed by the Authority. On holidays\, Sunday schedules for each route will be observed\, when available.
URL:https://www.ripta.com/event/columbus-day-2/
END:VEVENT
BEGIN:VEVENT
DTSTART;TZID=America/New_York:20211020T130000
DTEND;TZID=America/New_York:20211020T150000
DTSTAMP:20210929T011050
CREATED:20210126T222640Z
LAST-MODIFIED:20210126T222640Z
UID:10192-1634734800-1634742000@www.ripta.com
SUMMARY:Authority Board Meeting
DESCRIPTION:All meetings are held at 1:30 pm at RIPTA’s Transportation Conference Room located at 269 Melrose Street\, Providence\, RI\, unless otherwise noted. \n*Note: Due to COVID-19\, meetings have been moved to video conferencing\, using Cisco WebEx. \nPlease call (401) 784-9500 ext. 1171 with any questions. Thank you.
URL:https://www.ripta.com/event/authority-board-meeting-20/
LOCATION:RIPTA’s Transportation Conference Room\, 269 Melrose Street\, Providence\, RI\, 02903\, United States
END:VEVENT
BEGIN:VEVENT
DTSTART;TZID=America/New_York:20211020T130000
DTEND;TZID=America/New_York:20211020T150000
DTSTAMP:20210929T011050
CREATED:20210127T143623Z
LAST-MODIFIED:20210127T143623Z
UID:10233-1634734800-1634742000@www.ripta.com
SUMMARY:Joint Pension Board Meeting Schedule
DESCRIPTION:All meetings are held at 1:00 pm at RIPTA’s Transportation Conference Room located at 269 Melrose Street\, Providence\, RI\, unless otherwise noted. \n*Note: Due to COVID-19\, meetings have been moved to video conferencing\, using Cisco WebEx. \nPlease call (401) 784-9500 ext. 1171 with any questions.  Thank you.
URL:https://www.ripta.com/event/joint-pension-board-meeting-schedule-10/
LOCATION:RIPTA’s Transportation Conference Room\, 269 Melrose Street\, Providence\, RI\, 02903\, United States
END:VEVENT
END:VCALENDAR